BEGIN:VCALENDAR
VERSION:2.0
PRODID:SchoolNow
CALSCALE:GREGORIAN
BEGIN:VEVENT
UID:1c13abb4-2beb-11ee-82db-0a58a9feac02
DTSTAMP:20230726T193208Z
SUMMARY:Emergency Day
URL;VALUE=URI:https://www.arbor145.org/calendar/4524453/emergency-day
DTSTART;VALUE=DATE:20240603
DTEND;VALUE=DATE:20240608
END:VEVENT
END:VCALENDAR
