BEGIN:VCALENDAR
VERSION:2.0
PRODID:SchoolNow
CALSCALE:GREGORIAN
BEGIN:VEVENT
UID:6911aaf6-2beb-11ee-a063-0a58a9feac02
DTSTAMP:20230726T193417Z
SUMMARY:Veteran's Day
URL;VALUE=URI:https://www.arbor145.org/calendar/4524454/veterans-day
DTSTART;VALUE=DATE:20231111
DTEND;VALUE=DATE:20231112
END:VEVENT
END:VCALENDAR
