BEGIN:VCALENDAR
VERSION:2.0
PRODID:SchoolNow
CALSCALE:GREGORIAN
BEGIN:VEVENT
UID:7f7af798-2beb-11ee-b55a-0a58a9feac02
DTSTAMP:20230726T193455Z
SUMMARY:Christmas Day
URL;VALUE=URI:https://www.arbor145.org/calendar/4524455/christmas-day
DTSTART;VALUE=DATE:20231225
DTEND;VALUE=DATE:20231226
END:VEVENT
END:VCALENDAR
