BEGIN:VCALENDAR
VERSION:2.0
PRODID:SchoolNow
CALSCALE:GREGORIAN
BEGIN:VEVENT
UID:9093dc3e-2beb-11ee-8230-0a58a9feac02
DTSTAMP:20230726T193523Z
SUMMARY:New Year's Day
URL;VALUE=URI:https://www.arbor145.org/calendar/4524456/new-years-day
DTSTART;VALUE=DATE:20240101
DTEND;VALUE=DATE:20240102
END:VEVENT
END:VCALENDAR
