BEGIN:VCALENDAR
VERSION:2.0
PRODID:SchoolNow
CALSCALE:GREGORIAN
BEGIN:VEVENT
UID:b4a04f18-2beb-11ee-843b-0a58a9feac02
DTSTAMP:20230726T193624Z
SUMMARY:Juneteenth
URL;VALUE=URI:https://www.arbor145.org/calendar/4524457/juneteenth
DTSTART;VALUE=DATE:20240619
DTEND;VALUE=DATE:20240620
END:VEVENT
END:VCALENDAR
