BEGIN:VCALENDAR
VERSION:2.0
PRODID:SchoolNow
CALSCALE:GREGORIAN
BEGIN:VEVENT
UID:f04f0ac8-2c21-11ee-85b4-0a58a9feac02
DTSTAMP:20230727T020623Z
SUMMARY:APMS BBB Tournament Playoffs TBD
URL;VALUE=URI:https://www.arbor145.org/calendar/4525129/apms-bbb-tournament
 -playoffs-tbd
DTSTART;VALUE=DATE:20240226
DTEND;VALUE=DATE:20240227
END:VEVENT
END:VCALENDAR
