BEGIN:VCALENDAR
VERSION:2.0
PRODID:SchoolNow
CALSCALE:GREGORIAN
BEGIN:VEVENT
UID:f11ba510-6399-11ee-9957-0a58a9feac02
DTSTAMP:20231005T161700Z
SUMMARY:Board of Education Meeting
URL;VALUE=URI:https://www.arbor145.org/calendar/4834130/boe-meeting
DTSTART:20230823T230000Z
DTEND:20230824T010000Z
END:VEVENT
END:VCALENDAR
