BEGIN:VCALENDAR
VERSION:2.0
PRODID:SchoolNow
CALSCALE:GREGORIAN
BEGIN:VEVENT
UID:3ddec260-639a-11ee-835a-0ef51db375c7
DTSTAMP:20231005T161710Z
SUMMARY:Board of Education Meeting
URL;VALUE=URI:https://www.arbor145.org/calendar/4834131/boe-meeting
DTSTART:20230927T230000Z
DTEND:20230928T010000Z
END:VEVENT
END:VCALENDAR
