BEGIN:VCALENDAR
VERSION:2.0
PRODID:SchoolNow
CALSCALE:GREGORIAN
BEGIN:VEVENT
UID:5d59d674-639b-11ee-9d36-0a58a9feac02
DTSTAMP:20231005T162223Z
SUMMARY:Board of Education Meeting
URL;VALUE=URI:https://www.arbor145.org/calendar/4834132/board-of-education-
 meeting
DTSTART:20231026T000000Z
DTEND:20231026T010000Z
END:VEVENT
END:VCALENDAR
