BEGIN:VCALENDAR
VERSION:2.0
PRODID:SchoolNow
CALSCALE:GREGORIAN
BEGIN:VEVENT
UID:74af7f0e-639b-11ee-b941-0ef51db375c7
DTSTAMP:20231005T162302Z
SUMMARY:Board of Education Meeting
URL;VALUE=URI:https://www.arbor145.org/calendar/4834133/board-of-education-
 meeting
DTSTART:20231109T010000Z
DTEND:20231109T020000Z
END:VEVENT
END:VCALENDAR
