BEGIN:VCALENDAR
VERSION:2.0
PRODID:SchoolNow
CALSCALE:GREGORIAN
BEGIN:VEVENT
UID:8307253e-639b-11ee-a77b-0a58a9feac02
DTSTAMP:20231005T162326Z
SUMMARY:Board of Education Meeting
URL;VALUE=URI:https://www.arbor145.org/calendar/4834134/board-of-education-
 meeting
DTSTART:20231214T010000Z
DTEND:20231214T020000Z
END:VEVENT
END:VCALENDAR
