BEGIN:VCALENDAR
VERSION:2.0
PRODID:SchoolNow
CALSCALE:GREGORIAN
BEGIN:VEVENT
UID:9233deda-639b-11ee-bfbf-0a58a9feac02
DTSTAMP:20231005T162351Z
SUMMARY:Board of Education Meeting
URL;VALUE=URI:https://www.arbor145.org/calendar/4834135/board-of-education-
 meeting
DTSTART:20240125T010000Z
DTEND:20240125T020000Z
END:VEVENT
END:VCALENDAR
