BEGIN:VCALENDAR
VERSION:2.0
PRODID:SchoolNow
CALSCALE:GREGORIAN
BEGIN:VEVENT
UID:adec800a-63aa-11ee-83cf-0a58a9feac02
DTSTAMP:20231005T181200Z
SUMMARY:Board of Education Meeting
URL;VALUE=URI:https://www.arbor145.org/calendar/4834163/board-of-education-
 meeting
DTSTART:20240425T000000Z
DTEND:20240425T010000Z
END:VEVENT
END:VCALENDAR
