BEGIN:VCALENDAR
VERSION:2.0
PRODID:SchoolNow
CALSCALE:GREGORIAN
BEGIN:VEVENT
UID:c2e13e38-63aa-11ee-abc1-0a41f07d7a0f
DTSTAMP:20231005T181236Z
SUMMARY:Board of Education Meeting
URL;VALUE=URI:https://www.arbor145.org/calendar/4834164/board-of-education-
 meeting
DTSTART:20240523T000000Z
DTEND:20240523T010000Z
END:VEVENT
END:VCALENDAR
