BEGIN:VCALENDAR
VERSION:2.0
PRODID:SchoolNow
CALSCALE:GREGORIAN
BEGIN:VEVENT
UID:d745387a-63aa-11ee-847d-0eaf3fa7aab1
DTSTAMP:20231005T181310Z
SUMMARY:Board of Education Meeting
URL;VALUE=URI:https://www.arbor145.org/calendar/4834165/board-of-education-
 meeting
DTSTART:20240627T000000Z
DTEND:20240627T010000Z
END:VEVENT
END:VCALENDAR
