BEGIN:VCALENDAR
VERSION:2.0
PRODID:SchoolNow
CALSCALE:GREGORIAN
BEGIN:VEVENT
UID:05ad7c02-9abc-11ee-b8bc-0a58a9feac02
DTSTAMP:20231214T200629Z
SUMMARY:APMS 11:00am Dismissal
URL;VALUE=URI:https://www.arbor145.org/calendar/5003303/apms-dismissal-11-0
 0am
DTSTART;VALUE=DATE:20231221
DTEND;VALUE=DATE:20231222
END:VEVENT
END:VCALENDAR
