BEGIN:VCALENDAR
VERSION:2.0
PRODID:SchoolNow
CALSCALE:GREGORIAN
BEGIN:VEVENT
UID:17b3ed6e-9abc-11ee-aa35-0a58a9feac02
DTSTAMP:20231214T200642Z
SUMMARY:SOS 12:00pm Dismissal
URL;VALUE=URI:https://www.arbor145.org/calendar/5003304/sos-dismissal-12-00
 pm
DTSTART;VALUE=DATE:20231221
DTEND;VALUE=DATE:20231222
END:VEVENT
END:VCALENDAR
