BEGIN:VCALENDAR
VERSION:2.0
PRODID:SchoolNow
CALSCALE:GREGORIAN
BEGIN:VEVENT
UID:272d6400-9abc-11ee-b713-0a3767b9cee9
DTSTAMP:20231214T200610Z
SUMMARY:AES 12:30pm Dismissal
URL;VALUE=URI:https://www.arbor145.org/calendar/5003305/aes-dismissal-12-30
 pm
DTSTART;VALUE=DATE:20231221
DTEND;VALUE=DATE:20231222
END:VEVENT
END:VCALENDAR
