BEGIN:VCALENDAR
VERSION:2.0
PRODID:SchoolNow
CALSCALE:GREGORIAN
BEGIN:VEVENT
UID:4f3bcea0-c9c4-11ee-b465-0a58a9feac02
DTSTAMP:20240212T163227Z
SUMMARY:e-Learning
URL;VALUE=URI:https://www.arbor145.org/calendar/5314372/e-learning
DTSTART;VALUE=DATE:20240319
DTEND;VALUE=DATE:20240320
END:VEVENT
END:VCALENDAR
