BEGIN:VCALENDAR
VERSION:2.0
PRODID:SchoolNow
CALSCALE:GREGORIAN
BEGIN:VEVENT
UID:1962f59a-d655-11ee-8025-0286ffa57b6b
DTSTAMP:20240228T161908Z
SUMMARY:Board of Education Meeting
URL;VALUE=URI:https://www.arbor145.org/calendar/5423550/board-of-education-
 meeting
DTSTART:20240314T000000Z
DTEND:20240314T010000Z
END:VEVENT
END:VCALENDAR
