BEGIN:VCALENDAR
VERSION:2.0
PRODID:SchoolNow
CALSCALE:GREGORIAN
BEGIN:VEVENT
UID:dcf443f2-2d9d-11ef-9de3-02d7363539db
DTSTAMP:20240618T180911Z
SUMMARY:KHS Move in Night
URL;VALUE=URI:https://www.arbor145.org/calendar/6139469/khs-move-in-night
DTSTART:20240819T203000Z
DTEND:20240819T220000Z
END:VEVENT
END:VCALENDAR
