BEGIN:VCALENDAR
VERSION:2.0
PRODID:SchoolNow
CALSCALE:GREGORIAN
BEGIN:VEVENT
UID:5190cb9a-2d9e-11ef-8c3c-02d7363539db
DTSTAMP:20240618T191744Z
SUMMARY:Kindergarten Bus Run
URL;VALUE=URI:https://www.arbor145.org/calendar/6139471/kindergarten-bus-ru
 n
DTSTART;VALUE=DATE:20240820
DTEND;VALUE=DATE:20240821
END:VEVENT
END:VCALENDAR
