BEGIN:VCALENDAR
VERSION:2.0
PRODID:SchoolNow
CALSCALE:GREGORIAN
BEGIN:VEVENT
UID:6f6f05f4-2d9f-11ef-a694-0a58a9feac02
DTSTAMP:20240618T182026Z
SUMMARY:KHS Curriculum Night
URL;VALUE=URI:https://www.arbor145.org/calendar/6139474/khs-curriculum-nigh
 t
DTSTART;VALUE=DATE:20240905
DTEND;VALUE=DATE:20240906
END:VEVENT
END:VCALENDAR
