BEGIN:VCALENDAR
VERSION:2.0
PRODID:SchoolNow
CALSCALE:GREGORIAN
BEGIN:VEVENT
UID:8763b422-2da2-11ef-a867-023038674657
DTSTAMP:20240618T184235Z
SUMMARY:KHS Fall Picture Day
URL;VALUE=URI:https://www.arbor145.org/calendar/6139477/khs-fall-picture-da
 y
DTSTART;VALUE=DATE:20240906
DTEND;VALUE=DATE:20240907
END:VEVENT
END:VCALENDAR
