BEGIN:VCALENDAR
VERSION:2.0
PRODID:SchoolNow
CALSCALE:GREGORIAN
BEGIN:VEVENT
UID:c8b7f76c-2da2-11ef-8e1f-0a58a9feac02
DTSTAMP:20240618T184424Z
SUMMARY:Star 360 Testing - K
URL;VALUE=URI:https://www.arbor145.org/calendar/6139478/star-360-testing-k
DTSTART;VALUE=DATE:20240917
DTEND;VALUE=DATE:20240919
END:VEVENT
END:VCALENDAR
