BEGIN:VCALENDAR
VERSION:2.0
PRODID:SchoolNow
CALSCALE:GREGORIAN
BEGIN:VEVENT
UID:fe211dc0-2da2-11ef-a3b1-0a58a9feac02
DTSTAMP:20240618T184554Z
SUMMARY:Aimsweb Benchmarking
URL;VALUE=URI:https://www.arbor145.org/calendar/6139479/aimsweb-benchmarkin
 g
DTSTART;VALUE=DATE:20240918
DTEND;VALUE=DATE:20240920
END:VEVENT
END:VCALENDAR
