BEGIN:VCALENDAR
VERSION:2.0
PRODID:SchoolNow
CALSCALE:GREGORIAN
BEGIN:VEVENT
UID:1f84cb56-2da3-11ef-b2c6-023038674657
DTSTAMP:20240701T153914Z
SUMMARY:NO Preschool/Screening ALL Day
URL;VALUE=URI:https://www.arbor145.org/calendar/6139480/no-preschool-screen
 ing-all-day
DTSTART;VALUE=DATE:20240927
DTEND;VALUE=DATE:20240928
END:VEVENT
END:VCALENDAR
