BEGIN:VCALENDAR
VERSION:2.0
PRODID:SchoolNow
CALSCALE:GREGORIAN
BEGIN:VEVENT
UID:4cc2656a-2da3-11ef-ab01-0a58a9feac02
DTSTAMP:20240618T184806Z
SUMMARY:Morning PK Screening/Only Session 2 in attendance
URL;VALUE=URI:https://www.arbor145.org/calendar/6139481/morning-pk-screenin
 g-only-session-2-in-attendance
DTSTART;VALUE=DATE:20241018
DTEND;VALUE=DATE:20241019
END:VEVENT
END:VCALENDAR
