BEGIN:VCALENDAR
VERSION:2.0
PRODID:SchoolNow
CALSCALE:GREGORIAN
BEGIN:VEVENT
UID:9a6bea84-2da3-11ef-9810-0ee16e82ab5f
DTSTAMP:20240618T185016Z
SUMMARY:KIDS 40th Day Data Reporting
URL;VALUE=URI:https://www.arbor145.org/calendar/6139482/kids-40th-day-data-
 reporting
DTSTART;VALUE=DATE:20241021
DTEND;VALUE=DATE:20241022
END:VEVENT
END:VCALENDAR
