BEGIN:VCALENDAR
VERSION:2.0
PRODID:SchoolNow
CALSCALE:GREGORIAN
BEGIN:VEVENT
UID:b9a7d732-2da3-11ef-ba51-0a58a9feac02
DTSTAMP:20240618T185108Z
SUMMARY:KHS Fall Book Fair
URL;VALUE=URI:https://www.arbor145.org/calendar/6139483/khs-fall-book-fair
DTSTART;VALUE=DATE:20241029
DTEND;VALUE=DATE:20241031
END:VEVENT
END:VCALENDAR
