BEGIN:VCALENDAR
VERSION:2.0
PRODID:SchoolNow
CALSCALE:GREGORIAN
BEGIN:VEVENT
UID:e9a48a56-2da4-11ef-b564-0a58a9feac02
DTSTAMP:20240618T185938Z
SUMMARY:KHS Fall Picture Retakes
URL;VALUE=URI:https://www.arbor145.org/calendar/6139484/khs-fall-picture-re
 takes
DTSTART;VALUE=DATE:20241112
DTEND;VALUE=DATE:20241113
END:VEVENT
END:VCALENDAR
