BEGIN:VCALENDAR
VERSION:2.0
PRODID:SchoolNow
CALSCALE:GREGORIAN
BEGIN:VEVENT
UID:435df140-2da5-11ef-af29-0a58a9feac02
DTSTAMP:20240618T190209Z
SUMMARY:Afternoon PK Screening/Only Session 1 in Attendance
URL;VALUE=URI:https://www.arbor145.org/calendar/6139485/afternoon-pk-screen
 ing-only-session-1-in-attendance
DTSTART;VALUE=DATE:20241115
DTEND;VALUE=DATE:20241116
END:VEVENT
END:VCALENDAR
