BEGIN:VCALENDAR
VERSION:2.0
PRODID:SchoolNow
CALSCALE:GREGORIAN
BEGIN:VEVENT
UID:c0c1cf12-2da5-11ef-a09b-0a58a9feac02
DTSTAMP:20240618T190602Z
SUMMARY:Star 360 Testing
URL;VALUE=URI:https://www.arbor145.org/calendar/6139487/star-360-testing
DTSTART;VALUE=DATE:20241211
DTEND;VALUE=DATE:20241213
END:VEVENT
END:VCALENDAR
