BEGIN:VCALENDAR
VERSION:2.0
PRODID:SchoolNow
CALSCALE:GREGORIAN
BEGIN:VEVENT
UID:e252a3fe-2da5-11ef-9365-0a58a9feac02
DTSTAMP:20240618T190636Z
SUMMARY:Aimsweb Benchmarking
URL;VALUE=URI:https://www.arbor145.org/calendar/6139488/aimsweb-benchmarkin
 g
DTSTART;VALUE=DATE:20241212
DTEND;VALUE=DATE:20241214
END:VEVENT
END:VCALENDAR
