BEGIN:VCALENDAR
VERSION:2.0
PRODID:SchoolNow
CALSCALE:GREGORIAN
BEGIN:VEVENT
UID:0b7fe55c-2da6-11ef-bcc4-02d7363539db
DTSTAMP:20240618T190745Z
SUMMARY:No Preschool Session/11:30am Dismissal for Kindergarten
URL;VALUE=URI:https://www.arbor145.org/calendar/6139489/no-preschool-sessio
 n-11-30am-dismissal-for-kindergarten
DTSTART;VALUE=DATE:20241219
DTEND;VALUE=DATE:20241220
END:VEVENT
END:VCALENDAR
