BEGIN:VCALENDAR
VERSION:2.0
PRODID:SchoolNow
CALSCALE:GREGORIAN
BEGIN:VEVENT
UID:35cdedf4-2da6-11ef-b4b1-0a58a9feac02
DTSTAMP:20240618T190856Z
SUMMARY:Morning PK Screening/Only Session 2 in Attendance
URL;VALUE=URI:https://www.arbor145.org/calendar/6139490/morning-pk-screenin
 g-only-session-2-in-attendance
DTSTART;VALUE=DATE:20250124
DTEND;VALUE=DATE:20250125
END:VEVENT
END:VCALENDAR
