BEGIN:VCALENDAR
VERSION:2.0
PRODID:SchoolNow
CALSCALE:GREGORIAN
BEGIN:VEVENT
UID:57b5fcd6-2da6-11ef-9e56-0a58a9feac02
DTSTAMP:20240618T190953Z
SUMMARY:KIDS 105th Day Data Reporting
URL;VALUE=URI:https://www.arbor145.org/calendar/6139491/kids-105th-day-data
 -reporting
DTSTART;VALUE=DATE:20250210
DTEND;VALUE=DATE:20250211
END:VEVENT
END:VCALENDAR
