BEGIN:VCALENDAR
VERSION:2.0
PRODID:SchoolNow
CALSCALE:GREGORIAN
BEGIN:VEVENT
UID:95f21d54-2da6-11ef-98ce-0a58a9feac02
DTSTAMP:20240618T191235Z
SUMMARY:Afternoon PK Screening/Only Session 1 in Attendance
URL;VALUE=URI:https://www.arbor145.org/calendar/6139492/afternoon-pk-screen
 ing-only-session-1-in-attendance
DTSTART;VALUE=DATE:20250221
DTEND;VALUE=DATE:20250222
END:VEVENT
END:VCALENDAR
