BEGIN:VCALENDAR
VERSION:2.0
PRODID:SchoolNow
CALSCALE:GREGORIAN
BEGIN:VEVENT
UID:fbb5f6a6-2da6-11ef-94d2-0a58a9feac02
DTSTAMP:20240618T191428Z
SUMMARY:Morning PK Screening/Only Session 2 in Attendance
URL;VALUE=URI:https://www.arbor145.org/calendar/6139493/morning-pk-screenin
 g-only-session-2-in-attendance
DTSTART;VALUE=DATE:20250321
DTEND;VALUE=DATE:20250322
END:VEVENT
END:VCALENDAR
