BEGIN:VCALENDAR
VERSION:2.0
PRODID:SchoolNow
CALSCALE:GREGORIAN
BEGIN:VEVENT
UID:15b3d492-2da7-11ef-91f2-0ee4af65b7c3
DTSTAMP:20240618T191511Z
SUMMARY:KHS Spring Pictures
URL;VALUE=URI:https://www.arbor145.org/calendar/6139494/khs-spring-pictures
DTSTART;VALUE=DATE:20250403
DTEND;VALUE=DATE:20250404
END:VEVENT
END:VCALENDAR
