BEGIN:VCALENDAR
VERSION:2.0
PRODID:SchoolNow
CALSCALE:GREGORIAN
BEGIN:VEVENT
UID:36a8d7f6-2da7-11ef-b2d0-0affdb6e9e91
DTSTAMP:20240618T191607Z
SUMMARY:Afternoon PK Screening/Only Session1 in Attendance
URL;VALUE=URI:https://www.arbor145.org/calendar/6139495/afternoon-pk-screen
 ing-only-session1-in-attendance
DTSTART;VALUE=DATE:20250411
DTEND;VALUE=DATE:20250412
END:VEVENT
END:VCALENDAR
