BEGIN:VCALENDAR
VERSION:2.0
PRODID:SchoolNow
CALSCALE:GREGORIAN
BEGIN:VEVENT
UID:64eff48c-2da7-11ef-8717-0a58a9feac02
DTSTAMP:20240618T191724Z
SUMMARY:Star 360 Testing
URL;VALUE=URI:https://www.arbor145.org/calendar/6139496/star-360-testing
DTSTART;VALUE=DATE:20250415
DTEND;VALUE=DATE:20250417
END:VEVENT
END:VCALENDAR
