BEGIN:VCALENDAR
VERSION:2.0
PRODID:SchoolNow
CALSCALE:GREGORIAN
BEGIN:VEVENT
UID:92ad55ae-2da7-11ef-b1e9-02d9f02858d1
DTSTAMP:20240618T191841Z
SUMMARY:Aimsweb Benchmarking
URL;VALUE=URI:https://www.arbor145.org/calendar/6139497/aimsweb-benchmarkin
 g
DTSTART;VALUE=DATE:20250416
DTEND;VALUE=DATE:20250418
END:VEVENT
END:VCALENDAR
