BEGIN:VCALENDAR
VERSION:2.0
PRODID:SchoolNow
CALSCALE:GREGORIAN
BEGIN:VEVENT
UID:afb9030a-2da7-11ef-94a9-0a58a9feac02
DTSTAMP:20240618T191930Z
SUMMARY:KHS Steps Up to AES
URL;VALUE=URI:https://www.arbor145.org/calendar/6139498/khs-steps-up-to-aes
DTSTART;VALUE=DATE:20250513
DTEND;VALUE=DATE:20250514
END:VEVENT
END:VCALENDAR
