BEGIN:VCALENDAR
VERSION:2.0
PRODID:SchoolNow
CALSCALE:GREGORIAN
BEGIN:VEVENT
UID:dda43d52-2da7-11ef-9b80-0affdb6e9e91
DTSTAMP:20240618T192047Z
SUMMARY:No Preschool in Session/Pk Screening All Day
URL;VALUE=URI:https://www.arbor145.org/calendar/6139499/no-preschool-in-ses
 sion-pk-screening-all-day
DTSTART;VALUE=DATE:20250523
DTEND;VALUE=DATE:20250524
END:VEVENT
END:VCALENDAR
