BEGIN:VCALENDAR
VERSION:2.0
PRODID:SchoolNow
CALSCALE:GREGORIAN
BEGIN:VEVENT
UID:00ed84d0-2da8-11ef-896d-0a58a9feac02
DTSTAMP:20240618T192146Z
SUMMARY:KIDS 170th Day Data Reporting
URL;VALUE=URI:https://www.arbor145.org/calendar/6139500/kids-170th-day-data
 -reporting
DTSTART;VALUE=DATE:20250527
DTEND;VALUE=DATE:20250528
END:VEVENT
END:VCALENDAR
