BEGIN:VCALENDAR
VERSION:2.0
PRODID:SchoolNow
CALSCALE:GREGORIAN
BEGIN:VEVENT
UID:194ab138-2da8-11ef-baa6-023038674657
DTSTAMP:20240618T192227Z
SUMMARY:KHS Field Day
URL;VALUE=URI:https://www.arbor145.org/calendar/6139501/khs-field-day
DTSTART;VALUE=DATE:20250530
DTEND;VALUE=DATE:20250531
END:VEVENT
END:VCALENDAR
