BEGIN:VCALENDAR
VERSION:2.0
PRODID:SchoolNow
CALSCALE:GREGORIAN
BEGIN:VEVENT
UID:2bac92e2-2da8-11ef-8fe5-0ee4af65b7c3
DTSTAMP:20250522T210004Z
SUMMARY:Last Day of School for PKP
URL;VALUE=URI:https://www.arbor145.org/calendar/6139502/last-day-of-school-
 for-pkp
DTSTART;VALUE=DATE:20250602
DTEND;VALUE=DATE:20250603
END:VEVENT
END:VCALENDAR
