BEGIN:VCALENDAR
VERSION:2.0
PRODID:SchoolNow
CALSCALE:GREGORIAN
BEGIN:VEVENT
UID:42f3409a-2da8-11ef-9138-0a58a9feac02
DTSTAMP:20240618T192337Z
SUMMARY:Kindergarten Celebration Day
URL;VALUE=URI:https://www.arbor145.org/calendar/6139503/kindergarten-celebr
 ation-day
DTSTART;VALUE=DATE:20250603
DTEND;VALUE=DATE:20250604
END:VEVENT
END:VCALENDAR
