BEGIN:VCALENDAR
VERSION:2.0
PRODID:SchoolNow
CALSCALE:GREGORIAN
BEGIN:VEVENT
UID:d6919672-33ce-11ef-8994-0a58a9feac02
DTSTAMP:20240626T151452Z
SUMMARY:AES Move in Night
URL;VALUE=URI:https://www.arbor145.org/calendar/6169930/aes-move-in-night
DTSTART:20240819T210000Z
DTEND:20240819T223000Z
END:VEVENT
END:VCALENDAR
